BEGIN:VCALENDAR
VERSION:2.0
PRODID:-//Graceful Living - ECPv6.15.17.1//NONSGML v1.0//EN
CALSCALE:GREGORIAN
METHOD:PUBLISH
X-WR-CALNAME:Graceful Living
X-ORIGINAL-URL:https://gracefulliving.co.in
X-WR-CALDESC:Events for Graceful Living
REFRESH-INTERVAL;VALUE=DURATION:PT1H
X-Robots-Tag:noindex
X-PUBLISHED-TTL:PT1H
BEGIN:VTIMEZONE
TZID:Asia/Kolkata
BEGIN:STANDARD
TZOFFSETFROM:+0530
TZOFFSETTO:+0530
TZNAME:IST
DTSTART:20200101T000000
END:STANDARD
END:VTIMEZONE
BEGIN:VEVENT
DTSTART;TZID=Asia/Kolkata:20210112T170000
DTEND;TZID=Asia/Kolkata:20210112T180000
DTSTAMP:20260423T153828
CREATED:20210104T185951Z
LAST-MODIFIED:20210104T185951Z
UID:2550-1610470800-1610474400@gracefulliving.co.in
SUMMARY:Zoom Meeting with Mr. Jatish Shah (Addiction and Psychiatric Counsellor)
DESCRIPTION:Zoom Meeting with Mr. Jatish Shah\, an Addiction and Psychiatric Counsellor\, who has a Rehabilitation Management and Counselling Technology diploma from International Labour Organisation (UNO). \nRegister with\nMr. Pravin Damle: 9860001416\nMs. Shama Shah: 7304089636
URL:https://gracefulliving.co.in/event/zoom-meeting-with-mr-jatish-shah-addiction-and-psychiatric-counsellor/
END:VEVENT
BEGIN:VEVENT
DTSTART;TZID=Asia/Kolkata:20210109T183000
DTEND;TZID=Asia/Kolkata:20210109T193000
DTSTAMP:20260423T153828
CREATED:20210104T185057Z
LAST-MODIFIED:20210104T185302Z
UID:2545-1610217000-1610220600@gracefulliving.co.in
SUMMARY:Technology Training
DESCRIPTION:Graceful Living is conducting a FREE ZOOM TRAINING workshop for senior citizens. \nRegister with\nMr. Pravin Damle: 9860001416\nMs. Shama Shah: 7304089636
URL:https://gracefulliving.co.in/event/technology-training/
END:VEVENT
END:VCALENDAR